BEGIN:VCALENDAR
VERSION:2.0
PRODID:-//Susquehanna Waldorf School - ECPv6.15.20//NONSGML v1.0//EN
CALSCALE:GREGORIAN
METHOD:PUBLISH
X-WR-CALNAME:Susquehanna Waldorf School
X-ORIGINAL-URL:https://www.susquehannawaldorf.org
X-WR-CALDESC:Events for Susquehanna Waldorf School
REFRESH-INTERVAL;VALUE=DURATION:PT1H
X-Robots-Tag:noindex
X-PUBLISHED-TTL:PT1H
BEGIN:VTIMEZONE
TZID:America/New_York
BEGIN:DAYLIGHT
TZOFFSETFROM:-0500
TZOFFSETTO:-0400
TZNAME:EDT
DTSTART:20230312T070000
END:DAYLIGHT
BEGIN:STANDARD
TZOFFSETFROM:-0400
TZOFFSETTO:-0500
TZNAME:EST
DTSTART:20231105T060000
END:STANDARD
BEGIN:DAYLIGHT
TZOFFSETFROM:-0500
TZOFFSETTO:-0400
TZNAME:EDT
DTSTART:20240310T070000
END:DAYLIGHT
BEGIN:STANDARD
TZOFFSETFROM:-0400
TZOFFSETTO:-0500
TZNAME:EST
DTSTART:20241103T060000
END:STANDARD
BEGIN:DAYLIGHT
TZOFFSETFROM:-0500
TZOFFSETTO:-0400
TZNAME:EDT
DTSTART:20250309T070000
END:DAYLIGHT
BEGIN:STANDARD
TZOFFSETFROM:-0400
TZOFFSETTO:-0500
TZNAME:EST
DTSTART:20251102T060000
END:STANDARD
END:VTIMEZONE
BEGIN:VEVENT
DTSTART;VALUE=DATE:20240903
DTEND;VALUE=DATE:20240904
DTSTAMP:20260421T123514
CREATED:20240716T161905Z
LAST-MODIFIED:20240716T164627Z
UID:10000371-1725321600-1725407999@www.susquehannawaldorf.org
SUMMARY:Grades First Day Of School
DESCRIPTION:
URL:https://www.susquehannawaldorf.org/calendar/grades-first-day-of-school-2/
LOCATION:PA
END:VEVENT
BEGIN:VEVENT
DTSTART;VALUE=DATE:20240903
DTEND;VALUE=DATE:20240904
DTSTAMP:20260421T123514
CREATED:20240716T161905Z
LAST-MODIFIED:20240716T164059Z
UID:10000373-1725321600-1725407999@www.susquehannawaldorf.org
SUMMARY:Early Childhood Cubby Day
DESCRIPTION:
URL:https://www.susquehannawaldorf.org/calendar/early-childhood-cubby-day/
LOCATION:PA
END:VEVENT
BEGIN:VEVENT
DTSTART;TZID=America/New_York:20240903T081500
DTEND;TZID=America/New_York:20240903T100000
DTSTAMP:20260421T123514
CREATED:20240716T161907Z
LAST-MODIFIED:20240716T161907Z
UID:10000375-1725351300-1725357600@www.susquehannawaldorf.org
SUMMARY:Welcome Back Tea
DESCRIPTION:
URL:https://www.susquehannawaldorf.org/calendar/welcome-back-tea/
LOCATION:PA
END:VEVENT
BEGIN:VEVENT
DTSTART;TZID=America/New_York:20240903T084500
DTEND;TZID=America/New_York:20240903T091500
DTSTAMP:20260421T123514
CREATED:20240716T161907Z
LAST-MODIFIED:20240716T161907Z
UID:10000377-1725353100-1725354900@www.susquehannawaldorf.org
SUMMARY:Rose Ceremony
DESCRIPTION:
URL:https://www.susquehannawaldorf.org/calendar/rose-ceremony/
LOCATION:PA
END:VEVENT
BEGIN:VEVENT
DTSTART;VALUE=DATE:20240904
DTEND;VALUE=DATE:20240905
DTSTAMP:20260421T123514
CREATED:20240716T161908Z
LAST-MODIFIED:20240716T165312Z
UID:10000379-1725408000-1725494399@www.susquehannawaldorf.org
SUMMARY:Early Childhood First Day Of School
DESCRIPTION:
URL:https://www.susquehannawaldorf.org/calendar/early-childhood-first-day-of-school/
LOCATION:PA
END:VEVENT
BEGIN:VEVENT
DTSTART;VALUE=DATE:20240905
DTEND;VALUE=DATE:20240906
DTSTAMP:20260421T123514
CREATED:20240716T161908Z
LAST-MODIFIED:20240716T165409Z
UID:10000381-1725494400-1725580799@www.susquehannawaldorf.org
SUMMARY:First Semester Lunch Forms Due
DESCRIPTION:
URL:https://www.susquehannawaldorf.org/calendar/first-semester-lunch-forms-due/
LOCATION:PA
END:VEVENT
BEGIN:VEVENT
DTSTART;VALUE=DATE:20240909
DTEND;VALUE=DATE:20240910
DTSTAMP:20260421T123514
CREATED:20240716T161908Z
LAST-MODIFIED:20240716T165503Z
UID:10000383-1725840000-1725926399@www.susquehannawaldorf.org
SUMMARY:First Semester Lunches Begin
DESCRIPTION:
URL:https://www.susquehannawaldorf.org/calendar/first-semester-lunches-begin/
LOCATION:PA
END:VEVENT
BEGIN:VEVENT
DTSTART;TZID=America/New_York:20240914T100000
DTEND;TZID=America/New_York:20240914T120000
DTSTAMP:20260421T123514
CREATED:20240716T162007Z
LAST-MODIFIED:20240716T162007Z
UID:10000385-1726308000-1726315200@www.susquehannawaldorf.org
SUMMARY:Back To School Brunch
DESCRIPTION:
URL:https://www.susquehannawaldorf.org/calendar/back-to-school-brunch/
LOCATION:PA
END:VEVENT
BEGIN:VEVENT
DTSTART;TZID=America/New_York:20240915T100000
DTEND;TZID=America/New_York:20240915T120000
DTSTAMP:20260421T123514
CREATED:20240716T162008Z
LAST-MODIFIED:20240716T162008Z
UID:10000507-1726394400-1726401600@www.susquehannawaldorf.org
SUMMARY:Parent Guild Meeting
DESCRIPTION:
URL:https://www.susquehannawaldorf.org/calendar/parent-guild-meeting/
LOCATION:PA
END:VEVENT
BEGIN:VEVENT
DTSTART;TZID=America/New_York:20240918T183000
DTEND;TZID=America/New_York:20240918T203000
DTSTAMP:20260421T123514
CREATED:20240716T163847Z
LAST-MODIFIED:20250402T144958Z
UID:10000569-1726684200-1726691400@www.susquehannawaldorf.org
SUMMARY:Board Meeting
DESCRIPTION:
URL:https://www.susquehannawaldorf.org/calendar/board-meeting/2024-09-18/
LOCATION:PA
END:VEVENT
BEGIN:VEVENT
DTSTART;TZID=America/New_York:20240927T130000
DTEND;TZID=America/New_York:20240927T150000
DTSTAMP:20260421T123514
CREATED:20240716T162008Z
LAST-MODIFIED:20240716T162008Z
UID:10000508-1727442000-1727449200@www.susquehannawaldorf.org
SUMMARY:Grades Michaelmas Festival
DESCRIPTION:
URL:https://www.susquehannawaldorf.org/calendar/grades-michaelmas-festival/
LOCATION:PA
END:VEVENT
BEGIN:VEVENT
DTSTART;TZID=America/New_York:20240927T151500
DTEND;TZID=America/New_York:20240927T170000
DTSTAMP:20260421T123514
CREATED:20240716T162008Z
LAST-MODIFIED:20240716T162008Z
UID:10000509-1727450100-1727456400@www.susquehannawaldorf.org
SUMMARY:Family Hang
DESCRIPTION:
URL:https://www.susquehannawaldorf.org/calendar/family-hang/
LOCATION:PA
END:VEVENT
BEGIN:VEVENT
DTSTART;TZID=America/New_York:20240928T090000
DTEND;TZID=America/New_York:20240928T130000
DTSTAMP:20260421T123514
CREATED:20240716T162009Z
LAST-MODIFIED:20240716T165638Z
UID:10000510-1727514000-1727528400@www.susquehannawaldorf.org
SUMMARY:David Sewell McCann Workshop
DESCRIPTION:
URL:https://www.susquehannawaldorf.org/calendar/david-sewell-mccann-workshop/
LOCATION:PA
END:VEVENT
END:VCALENDAR