BEGIN:VCALENDAR
VERSION:2.0
PRODID:-//Susquehanna Waldorf School - ECPv6.15.20//NONSGML v1.0//EN
CALSCALE:GREGORIAN
METHOD:PUBLISH
X-WR-CALNAME:Susquehanna Waldorf School
X-ORIGINAL-URL:https://www.susquehannawaldorf.org
X-WR-CALDESC:Events for Susquehanna Waldorf School
REFRESH-INTERVAL;VALUE=DURATION:PT1H
X-Robots-Tag:noindex
X-PUBLISHED-TTL:PT1H
BEGIN:VTIMEZONE
TZID:America/New_York
BEGIN:DAYLIGHT
TZOFFSETFROM:-0500
TZOFFSETTO:-0400
TZNAME:EDT
DTSTART:20230312T070000
END:DAYLIGHT
BEGIN:STANDARD
TZOFFSETFROM:-0400
TZOFFSETTO:-0500
TZNAME:EST
DTSTART:20231105T060000
END:STANDARD
BEGIN:DAYLIGHT
TZOFFSETFROM:-0500
TZOFFSETTO:-0400
TZNAME:EDT
DTSTART:20240310T070000
END:DAYLIGHT
BEGIN:STANDARD
TZOFFSETFROM:-0400
TZOFFSETTO:-0500
TZNAME:EST
DTSTART:20241103T060000
END:STANDARD
BEGIN:DAYLIGHT
TZOFFSETFROM:-0500
TZOFFSETTO:-0400
TZNAME:EDT
DTSTART:20250309T070000
END:DAYLIGHT
BEGIN:STANDARD
TZOFFSETFROM:-0400
TZOFFSETTO:-0500
TZNAME:EST
DTSTART:20251102T060000
END:STANDARD
BEGIN:DAYLIGHT
TZOFFSETFROM:-0500
TZOFFSETTO:-0400
TZNAME:EDT
DTSTART:20260308T070000
END:DAYLIGHT
BEGIN:STANDARD
TZOFFSETFROM:-0400
TZOFFSETTO:-0500
TZNAME:EST
DTSTART:20261101T060000
END:STANDARD
END:VTIMEZONE
BEGIN:VEVENT
DTSTART;VALUE=DATE:20241127
DTEND;VALUE=DATE:20241203
DTSTAMP:20260421T180251
CREATED:20240716T162808Z
LAST-MODIFIED:20240716T170532Z
UID:10000535-1732665600-1733183999@www.susquehannawaldorf.org
SUMMARY:No School - Thanksgiving Break
DESCRIPTION:
URL:https://www.susquehannawaldorf.org/calendar/no-school-thanksgiving-break/
LOCATION:PA
END:VEVENT
BEGIN:VEVENT
DTSTART;TZID=America/New_York:20241202T161500
DTEND;TZID=America/New_York:20241202T170000
DTSTAMP:20260421T180251
CREATED:20240716T162808Z
LAST-MODIFIED:20240716T162808Z
UID:10000537-1733156100-1733158800@www.susquehannawaldorf.org
SUMMARY:Community Spiral of Light - Parent/Child + Stepping Stone
DESCRIPTION:
URL:https://www.susquehannawaldorf.org/calendar/community-spiral-of-light-parent-child-stepping-stone/
LOCATION:PA
END:VEVENT
BEGIN:VEVENT
DTSTART;TZID=America/New_York:20241202T171500
DTEND;TZID=America/New_York:20241202T181500
DTSTAMP:20260421T180251
CREATED:20240716T162808Z
LAST-MODIFIED:20240716T162808Z
UID:10000538-1733159700-1733163300@www.susquehannawaldorf.org
SUMMARY:Community Spiral Of Light - Kinder
DESCRIPTION:
URL:https://www.susquehannawaldorf.org/calendar/community-spiral-of-light-kinder/
LOCATION:PA
END:VEVENT
BEGIN:VEVENT
DTSTART;TZID=America/New_York:20241202T183000
DTEND;TZID=America/New_York:20241202T193000
DTSTAMP:20260421T180251
CREATED:20240716T162809Z
LAST-MODIFIED:20240716T162809Z
UID:10000539-1733164200-1733167800@www.susquehannawaldorf.org
SUMMARY:Community Spiral of Light - Grades & Alum
DESCRIPTION:
URL:https://www.susquehannawaldorf.org/calendar/community-spiral-of-light-grades-alum/
LOCATION:PA
END:VEVENT
BEGIN:VEVENT
DTSTART;VALUE=DATE:20241203
DTEND;VALUE=DATE:20241204
DTSTAMP:20260421T180251
CREATED:20240716T163008Z
LAST-MODIFIED:20240716T170733Z
UID:10000540-1733184000-1733270399@www.susquehannawaldorf.org
SUMMARY:In-School Spiral of Light - Grades
DESCRIPTION:
URL:https://www.susquehannawaldorf.org/calendar/in-school-spiral-of-light-grades/
LOCATION:PA
END:VEVENT
BEGIN:VEVENT
DTSTART;VALUE=DATE:20241206
DTEND;VALUE=DATE:20241207
DTSTAMP:20260421T180251
CREATED:20240716T163008Z
LAST-MODIFIED:20240716T170811Z
UID:10000541-1733443200-1733529599@www.susquehannawaldorf.org
SUMMARY:St. Nicholas Day
DESCRIPTION:
URL:https://www.susquehannawaldorf.org/calendar/st-nicholas-day/
LOCATION:PA
END:VEVENT
BEGIN:VEVENT
DTSTART;TZID=America/New_York:20241208T110000
DTEND;TZID=America/New_York:20241208T160000
DTSTAMP:20260421T180251
CREATED:20240716T163009Z
LAST-MODIFIED:20240716T163009Z
UID:10000542-1733655600-1733673600@www.susquehannawaldorf.org
SUMMARY:Winter Fair
DESCRIPTION:
URL:https://www.susquehannawaldorf.org/calendar/winter-fair/
LOCATION:PA
END:VEVENT
BEGIN:VEVENT
DTSTART;TZID=America/New_York:20241212T110000
DTEND;TZID=America/New_York:20241212T123000
DTSTAMP:20260421T180251
CREATED:20240716T163009Z
LAST-MODIFIED:20240716T163009Z
UID:10000543-1734001200-1734006600@www.susquehannawaldorf.org
SUMMARY:Winter Concert - Afternoon Show
DESCRIPTION:
URL:https://www.susquehannawaldorf.org/calendar/winter-concert-afternoon-show/
LOCATION:PA
END:VEVENT
BEGIN:VEVENT
DTSTART;TZID=America/New_York:20241213T190000
DTEND;TZID=America/New_York:20241213T203000
DTSTAMP:20260421T180251
CREATED:20240716T163010Z
LAST-MODIFIED:20240819T141459Z
UID:10000544-1734116400-1734121800@www.susquehannawaldorf.org
SUMMARY:Winter Concert - Evening Show
DESCRIPTION:
URL:https://www.susquehannawaldorf.org/calendar/winter-concert-evening-show/
LOCATION:PA
END:VEVENT
BEGIN:VEVENT
DTSTART;TZID=America/New_York:20241214T170000
DTEND;TZID=America/New_York:20241214T183000
DTSTAMP:20260421T180251
CREATED:20240909T151844Z
LAST-MODIFIED:20240909T151942Z
UID:10000581-1734195600-1734201000@www.susquehannawaldorf.org
SUMMARY:Winter Concert SNOW DATE
DESCRIPTION:
URL:https://www.susquehannawaldorf.org/calendar/winter-concert-snow-date/
LOCATION:Susquehanna Waldorf School\, 15 W. Walnut St\, Marietta\, PA\, 17547
GEO:40.0576561;-76.5532033
X-APPLE-STRUCTURED-LOCATION;VALUE=URI;X-ADDRESS=Susquehanna Waldorf School 15 W. Walnut St Marietta PA 17547;X-APPLE-RADIUS=500;X-TITLE=15 W. Walnut St:geo:-76.5532033,40.0576561
END:VEVENT
BEGIN:VEVENT
DTSTART;TZID=America/New_York:20241215T100000
DTEND;TZID=America/New_York:20241215T120000
DTSTAMP:20260421T180251
CREATED:20240716T171153Z
LAST-MODIFIED:20240716T171153Z
UID:10000579-1734256800-1734264000@www.susquehannawaldorf.org
SUMMARY:Parent Guild Meeting
DESCRIPTION:
URL:https://www.susquehannawaldorf.org/calendar/parent-guild-meeting-10/
LOCATION:PA
END:VEVENT
BEGIN:VEVENT
DTSTART;TZID=America/New_York:20241218T183000
DTEND;TZID=America/New_York:20241218T203000
DTSTAMP:20260421T180251
CREATED:20240716T163847Z
LAST-MODIFIED:20250402T144958Z
UID:10000572-1734546600-1734553800@www.susquehannawaldorf.org
SUMMARY:Board Meeting
DESCRIPTION:
URL:https://www.susquehannawaldorf.org/calendar/board-meeting/2024-12-18/
LOCATION:PA
END:VEVENT
BEGIN:VEVENT
DTSTART;VALUE=DATE:20241220
DTEND;VALUE=DATE:20241221
DTSTAMP:20260421T180251
CREATED:20240716T163105Z
LAST-MODIFIED:20240716T170905Z
UID:10000545-1734652800-1734739199@www.susquehannawaldorf.org
SUMMARY:Early Dismissal - 12 pm
DESCRIPTION:
URL:https://www.susquehannawaldorf.org/calendar/early-dismissal-12-pm/
LOCATION:PA
END:VEVENT
BEGIN:VEVENT
DTSTART;TZID=America/New_York:20241220T103000
DTEND;TZID=America/New_York:20241220T113000
DTSTAMP:20260421T180251
CREATED:20240716T163105Z
LAST-MODIFIED:20240716T163105Z
UID:10000546-1734690600-1734694200@www.susquehannawaldorf.org
SUMMARY:Grades Holiday Assembly
DESCRIPTION:
URL:https://www.susquehannawaldorf.org/calendar/grades-holiday-assembly/
LOCATION:PA
END:VEVENT
BEGIN:VEVENT
DTSTART;VALUE=DATE:20241223
DTEND;VALUE=DATE:20250104
DTSTAMP:20260421T180251
CREATED:20240716T163106Z
LAST-MODIFIED:20240716T171009Z
UID:10000547-1734912000-1735948799@www.susquehannawaldorf.org
SUMMARY:No School - Holiday Break
DESCRIPTION:
URL:https://www.susquehannawaldorf.org/calendar/no-school-holiday-break/
LOCATION:PA
END:VEVENT
END:VCALENDAR