BEGIN:VCALENDAR
VERSION:2.0
PRODID:-//Susquehanna Waldorf School - ECPv6.15.20//NONSGML v1.0//EN
CALSCALE:GREGORIAN
METHOD:PUBLISH
X-ORIGINAL-URL:https://www.susquehannawaldorf.org
X-WR-CALDESC:Events for Susquehanna Waldorf School
REFRESH-INTERVAL;VALUE=DURATION:PT1H
X-Robots-Tag:noindex
X-PUBLISHED-TTL:PT1H
BEGIN:VTIMEZONE
TZID:America/New_York
BEGIN:DAYLIGHT
TZOFFSETFROM:-0500
TZOFFSETTO:-0400
TZNAME:EDT
DTSTART:20250309T070000
END:DAYLIGHT
BEGIN:STANDARD
TZOFFSETFROM:-0400
TZOFFSETTO:-0500
TZNAME:EST
DTSTART:20251102T060000
END:STANDARD
BEGIN:DAYLIGHT
TZOFFSETFROM:-0500
TZOFFSETTO:-0400
TZNAME:EDT
DTSTART:20260308T070000
END:DAYLIGHT
BEGIN:STANDARD
TZOFFSETFROM:-0400
TZOFFSETTO:-0500
TZNAME:EST
DTSTART:20261101T060000
END:STANDARD
BEGIN:DAYLIGHT
TZOFFSETFROM:-0500
TZOFFSETTO:-0400
TZNAME:EDT
DTSTART:20270314T070000
END:DAYLIGHT
BEGIN:STANDARD
TZOFFSETFROM:-0400
TZOFFSETTO:-0500
TZNAME:EST
DTSTART:20271107T060000
END:STANDARD
END:VTIMEZONE
BEGIN:VEVENT
DTSTART;VALUE=DATE:20260501
DTEND;VALUE=DATE:20260502
DTSTAMP:20260421T073436
CREATED:20250528T134524Z
LAST-MODIFIED:20250528T134524Z
UID:10000484-1777593600-1777679999@www.susquehannawaldorf.org
SUMMARY:All School May Day GLO - Grandparents and Loved Ones Day
DESCRIPTION:
URL:https://www.susquehannawaldorf.org/calendar/all-school-may-day-glo-grandparents-and-loved-ones-day-2/
LOCATION:PA
END:VEVENT
BEGIN:VEVENT
DTSTART;VALUE=DATE:20260508
DTEND;VALUE=DATE:20260509
DTSTAMP:20260421T073436
CREATED:20250528T134524Z
LAST-MODIFIED:20250528T134524Z
UID:10000636-1778198400-1778284799@www.susquehannawaldorf.org
SUMMARY:No School - Staff In-Service Day
DESCRIPTION:
URL:https://www.susquehannawaldorf.org/calendar/no-school-staff-in-service-day-9/
LOCATION:PA
END:VEVENT
BEGIN:VEVENT
DTSTART;TZID=America/New_York:20260517T100000
DTEND;TZID=America/New_York:20260517T120000
DTSTAMP:20260421T073436
CREATED:20250528T134524Z
LAST-MODIFIED:20250528T134524Z
UID:10000638-1779012000-1779019200@www.susquehannawaldorf.org
SUMMARY:Parent Guild Meeting
DESCRIPTION:
URL:https://www.susquehannawaldorf.org/calendar/parent-guild-meeting-26/
LOCATION:PA
END:VEVENT
BEGIN:VEVENT
DTSTART;TZID=America/New_York:20260520T183000
DTEND;TZID=America/New_York:20260520T203000
DTSTAMP:20260421T073436
CREATED:20250528T134623Z
LAST-MODIFIED:20250528T134623Z
UID:10000637-1779301800-1779309000@www.susquehannawaldorf.org
SUMMARY:Board Meeting
DESCRIPTION:
URL:https://www.susquehannawaldorf.org/calendar/board-meeting-16/
LOCATION:PA
END:VEVENT
BEGIN:VEVENT
DTSTART;TZID=America/New_York:20260522T151500
DTEND;TZID=America/New_York:20260522T170000
DTSTAMP:20260421T073436
CREATED:20250528T134624Z
LAST-MODIFIED:20250528T134624Z
UID:10000639-1779462900-1779469200@www.susquehannawaldorf.org
SUMMARY:End-Of-Year Family Hang
DESCRIPTION:
URL:https://www.susquehannawaldorf.org/calendar/end-of-year-family-hang-2/
LOCATION:PA
END:VEVENT
BEGIN:VEVENT
DTSTART;VALUE=DATE:20260525
DTEND;VALUE=DATE:20260526
DTSTAMP:20260421T073436
CREATED:20250528T134624Z
LAST-MODIFIED:20250528T134624Z
UID:10000640-1779667200-1779753599@www.susquehannawaldorf.org
SUMMARY:No School
DESCRIPTION:
URL:https://www.susquehannawaldorf.org/calendar/no-school-5/
LOCATION:PA
END:VEVENT
END:VCALENDAR