BEGIN:VCALENDAR
VERSION:2.0
PRODID:-//Susquehanna Waldorf School - ECPv6.15.20//NONSGML v1.0//EN
CALSCALE:GREGORIAN
METHOD:PUBLISH
X-WR-CALNAME:Susquehanna Waldorf School
X-ORIGINAL-URL:https://www.susquehannawaldorf.org
X-WR-CALDESC:Events for Susquehanna Waldorf School
REFRESH-INTERVAL;VALUE=DURATION:PT1H
X-Robots-Tag:noindex
X-PUBLISHED-TTL:PT1H
BEGIN:VTIMEZONE
TZID:America/New_York
BEGIN:DAYLIGHT
TZOFFSETFROM:-0500
TZOFFSETTO:-0400
TZNAME:EDT
DTSTART:20250309T070000
END:DAYLIGHT
BEGIN:STANDARD
TZOFFSETFROM:-0400
TZOFFSETTO:-0500
TZNAME:EST
DTSTART:20251102T060000
END:STANDARD
BEGIN:DAYLIGHT
TZOFFSETFROM:-0500
TZOFFSETTO:-0400
TZNAME:EDT
DTSTART:20260308T070000
END:DAYLIGHT
BEGIN:STANDARD
TZOFFSETFROM:-0400
TZOFFSETTO:-0500
TZNAME:EST
DTSTART:20261101T060000
END:STANDARD
BEGIN:DAYLIGHT
TZOFFSETFROM:-0500
TZOFFSETTO:-0400
TZNAME:EDT
DTSTART:20270314T070000
END:DAYLIGHT
BEGIN:STANDARD
TZOFFSETFROM:-0400
TZOFFSETTO:-0500
TZNAME:EST
DTSTART:20271107T060000
END:STANDARD
END:VTIMEZONE
BEGIN:VEVENT
DTSTART;VALUE=DATE:20260602
DTEND;VALUE=DATE:20260603
DTSTAMP:20260421T092505
CREATED:20250528T134624Z
LAST-MODIFIED:20250528T134624Z
UID:10000641-1780358400-1780444799@www.susquehannawaldorf.org
SUMMARY:Early Childhood Last Day of SchoolNoon Dismissal - EC Only
DESCRIPTION:
URL:https://www.susquehannawaldorf.org/calendar/early-childhood-last-day-of-schoolnoon-dismissal-ec-only-2/
LOCATION:PA
END:VEVENT
BEGIN:VEVENT
DTSTART;VALUE=DATE:20260603
DTEND;VALUE=DATE:20260604
DTSTAMP:20260421T092505
CREATED:20250528T134625Z
LAST-MODIFIED:20250528T134625Z
UID:10000642-1780444800-1780531199@www.susquehannawaldorf.org
SUMMARY:Grades Last Day of SchoolNoon Dismissal
DESCRIPTION:
URL:https://www.susquehannawaldorf.org/calendar/grades-last-day-of-schoolnoon-dismissal-2/
LOCATION:PA
END:VEVENT
BEGIN:VEVENT
DTSTART;TZID=America/New_York:20260603T084500
DTEND;TZID=America/New_York:20260603T100000
DTSTAMP:20260421T092505
CREATED:20250528T134724Z
LAST-MODIFIED:20250528T134724Z
UID:10000643-1780476300-1780480800@www.susquehannawaldorf.org
SUMMARY:Last Day Assembly
DESCRIPTION:
URL:https://www.susquehannawaldorf.org/calendar/last-day-assembly-3/
LOCATION:PA
END:VEVENT
BEGIN:VEVENT
DTSTART;VALUE=DATE:20260604
DTEND;VALUE=DATE:20260605
DTSTAMP:20260421T092505
CREATED:20250528T134724Z
LAST-MODIFIED:20250528T134724Z
UID:10000644-1780531200-1780617599@www.susquehannawaldorf.org
SUMMARY:Class of 2026 Graduation
DESCRIPTION:
URL:https://www.susquehannawaldorf.org/calendar/class-of-2026-graduation-2/
LOCATION:PA
END:VEVENT
BEGIN:VEVENT
DTSTART;VALUE=DATE:20260604
DTEND;VALUE=DATE:20260606
DTSTAMP:20260421T092505
CREATED:20250528T134724Z
LAST-MODIFIED:20250528T134724Z
UID:10000645-1780531200-1780703999@www.susquehannawaldorf.org
SUMMARY:Staff End-of-Year Meetings
DESCRIPTION:
URL:https://www.susquehannawaldorf.org/calendar/staff-end-of-year-meetings-3/
LOCATION:PA
END:VEVENT
BEGIN:VEVENT
DTSTART;TZID=America/New_York:20260614T100000
DTEND;TZID=America/New_York:20260614T120000
DTSTAMP:20260421T092505
CREATED:20250528T134724Z
LAST-MODIFIED:20250528T134724Z
UID:10000485-1781431200-1781438400@www.susquehannawaldorf.org
SUMMARY:Parent Guild Meeting
DESCRIPTION:
URL:https://www.susquehannawaldorf.org/calendar/parent-guild-meeting-27/
LOCATION:PA
END:VEVENT
BEGIN:VEVENT
DTSTART;TZID=America/New_York:20260617T183000
DTEND;TZID=America/New_York:20260617T203000
DTSTAMP:20260421T092505
CREATED:20250528T134725Z
LAST-MODIFIED:20250528T134725Z
UID:10000486-1781721000-1781728200@www.susquehannawaldorf.org
SUMMARY:Board Meeting
DESCRIPTION:
URL:https://www.susquehannawaldorf.org/calendar/board-meeting-17/
LOCATION:PA
END:VEVENT
END:VCALENDAR